BEGIN:VCALENDAR
PRODID:-//eluceo/ical//2.0/EN
VERSION:2.0
CALSCALE:GREGORIAN
BEGIN:VEVENT
UID:6b674df73a684fad1da5ac014d3eec78
DTSTAMP:20260423T112010Z
SUMMARY:YEP : week-end d'intégration Ohlain 1 / 2 février 2020
DESCRIPTION:
URL:https://yep.rotaryd1520.org/en/agenda/show/18775
DTSTART;TZID=Europe/Zurich:20200201T120000
DTEND;TZID=Europe/Zurich:20200202T143000
LOCATION:Parc d'Ohlain\, rue de Rebreuve\, 62620 Maisnil-lès-Ruitz
CATEGORIES:Rotary
END:VEVENT
BEGIN:VTIMEZONE
TZID:Europe/Zurich
BEGIN:STANDARD
DTSTART:20200201T120000
TZNAME:CET
TZOFFSETTO:+0100
TZOFFSETFROM:+0100
END:STANDARD
END:VTIMEZONE
END:VCALENDAR
